Package: REMP Version: 1.30.0 Command: /home/biocbuild/R/R/bin/R CMD INSTALL REMP StartedAt: 2025-03-31 21:05:32 -0000 (Mon, 31 Mar 2025) EndedAt: 2025-03-31 21:06:41 -0000 (Mon, 31 Mar 2025) EllapsedTime: 69.9 seconds RetCode: 0 Status: OK