Package: REMP Version: 1.30.0 Command: /Library/Frameworks/R.framework/Resources/bin/R CMD check --install=check:REMP.install-out.txt --library=/Library/Frameworks/R.framework/Resources/library --no-vignettes --timings REMP_1.30.0.tar.gz StartedAt: 2025-04-01 07:52:49 -0400 (Tue, 01 Apr 2025) EndedAt: 2025-04-01 08:07:49 -0400 (Tue, 01 Apr 2025) EllapsedTime: 900.4 seconds RetCode: 0 Status: OK CheckDir: REMP.Rcheck Warnings: 0