Package: REBET Version: 1.24.0 Command: /home/biocbuild/R/R/bin/R CMD INSTALL REBET StartedAt: 2025-03-31 21:10:40 -0000 (Mon, 31 Mar 2025) EndedAt: 2025-03-31 21:10:48 -0000 (Mon, 31 Mar 2025) EllapsedTime: 8.1 seconds RetCode: 0 Status: OK