Package: REBET Version: 1.24.0 Command: /home/biocbuild/R/R/bin/R CMD check --install=check:REBET.install-out.txt --library=/home/biocbuild/R/R/site-library --no-vignettes --timings REBET_1.24.0.tar.gz StartedAt: 2025-04-01 09:51:16 -0000 (Tue, 01 Apr 2025) EndedAt: 2025-04-01 09:52:10 -0000 (Tue, 01 Apr 2025) EllapsedTime: 54.1 seconds RetCode: 0 Status: OK CheckDir: REBET.Rcheck Warnings: 0