Package: REBET Version: 1.24.0 Command: /home/biocbuild/R/R/bin/R CMD build --keep-empty-dirs --no-resave-data REBET StartedAt: 2025-04-01 01:57:32 -0000 (Tue, 01 Apr 2025) EndedAt: 2025-04-01 01:57:44 -0000 (Tue, 01 Apr 2025) EllapsedTime: 12.0 seconds RetCode: 0 Status: OK PackageFile: REBET_1.24.0.tar.gz PackageFileSize: 301.1 KiB