Package: REBET Version: 1.24.0 Command: /Library/Frameworks/R.framework/Resources/bin/R CMD check --install=check:REBET.install-out.txt --library=/Library/Frameworks/R.framework/Resources/library --no-vignettes --timings REBET_1.24.0.tar.gz StartedAt: 2025-04-01 07:48:25 -0400 (Tue, 01 Apr 2025) EndedAt: 2025-04-01 07:50:06 -0400 (Tue, 01 Apr 2025) EllapsedTime: 101.0 seconds RetCode: 0 Status: OK CheckDir: REBET.Rcheck Warnings: 0