Package: RDRToolbox Version: 1.56.0 Command: rm -rf RDRToolbox.buildbin-libdir && mkdir RDRToolbox.buildbin-libdir && /Users/biocbuild/BBS/utils/build-universal.sh RDRToolbox_1.56.0.tar.gz /Library/Frameworks/R.framework/Resources/bin/R RDRToolbox.buildbin-libdir StartedAt: 2025-04-01 12:33:15 -0400 (Tue, 01 Apr 2025) EndedAt: 2025-04-01 12:33:22 -0400 (Tue, 01 Apr 2025) EllapsedTime: 6.7 seconds RetCode: 0 Status: OK PackageFile: RDRToolbox_1.56.0.tgz PackageFileSize: 188 KiB