Package: RCyjs Version: 2.28.0 Command: /Library/Frameworks/R.framework/Resources/bin/R CMD build --keep-empty-dirs --no-resave-data RCyjs StartedAt: 2025-03-31 21:19:22 -0400 (Mon, 31 Mar 2025) EndedAt: 2025-03-31 21:19:42 -0400 (Mon, 31 Mar 2025) EllapsedTime: 20.6 seconds RetCode: 0 Status: OK PackageFile: RCyjs_2.28.0.tar.gz PackageFileSize: 1.084 MiB