Package: RCX Version: 1.10.0 Command: F:\biocbuild\bbs-3.20-bioc\R\bin\R.exe CMD INSTALL RCX StartedAt: 2025-03-31 15:30:49 -0400 (Mon, 31 Mar 2025) EndedAt: 2025-03-31 15:31:50 -0400 (Mon, 31 Mar 2025) EllapsedTime: 61.4 seconds RetCode: 0 Status: OK