Package: RCX Version: 1.10.0 Command: chmod a+r RCX -R && F:\biocbuild\bbs-3.20-bioc\R\bin\R.exe CMD build --keep-empty-dirs --no-resave-data RCX StartedAt: 2025-03-31 21:20:45 -0400 (Mon, 31 Mar 2025) EndedAt: 2025-03-31 21:22:20 -0400 (Mon, 31 Mar 2025) EllapsedTime: 94.3 seconds RetCode: 0 Status: OK PackageFile: RCX_1.10.0.tar.gz PackageFileSize: 4.575 MiB