Package: RCX Version: 1.10.0 Command: /Library/Frameworks/R.framework/Resources/bin/R CMD check --install=check:RCX.install-out.txt --library=/Library/Frameworks/R.framework/Resources/library --no-vignettes --timings RCX_1.10.0.tar.gz StartedAt: 2025-04-02 05:35:12 -0400 (Wed, 02 Apr 2025) EndedAt: 2025-04-02 05:36:05 -0400 (Wed, 02 Apr 2025) EllapsedTime: 52.1 seconds RetCode: 0 Status: OK CheckDir: RCX.Rcheck Warnings: 0