Package: RCX Version: 1.10.0 Command: /Library/Frameworks/R.framework/Resources/bin/R CMD build --keep-empty-dirs --no-resave-data RCX StartedAt: 2025-04-01 05:57:43 -0400 (Tue, 01 Apr 2025) EndedAt: 2025-04-01 05:58:15 -0400 (Tue, 01 Apr 2025) EllapsedTime: 32.2 seconds RetCode: 0 Status: OK PackageFile: RCX_1.10.0.tar.gz PackageFileSize: 4.574 MiB