Package: RCSL Version: 1.14.0 Command: /home/biocbuild/bbs-3.20-bioc/R/bin/R CMD check --install=check:RCSL.install-out.txt --library=/home/biocbuild/bbs-3.20-bioc/R/site-library --timings RCSL_1.14.0.tar.gz StartedAt: 2025-04-01 01:22:17 -0400 (Tue, 01 Apr 2025) EndedAt: 2025-04-01 01:29:18 -0400 (Tue, 01 Apr 2025) EllapsedTime: 420.5 seconds RetCode: 0 Status: OK CheckDir: RCSL.Rcheck Warnings: 0