Package: RCSL Version: 1.14.0 Command: /Library/Frameworks/R.framework/Resources/bin/R CMD build --keep-empty-dirs --no-resave-data RCSL StartedAt: 2025-03-31 21:18:24 -0400 (Mon, 31 Mar 2025) EndedAt: 2025-03-31 21:19:22 -0400 (Mon, 31 Mar 2025) EllapsedTime: 57.9 seconds RetCode: 0 Status: OK PackageFile: RCSL_1.14.0.tar.gz PackageFileSize: 1.955 MiB