Package: RCM Version: 1.22.0 Command: /Library/Frameworks/R.framework/Resources/bin/R CMD build --keep-empty-dirs --no-resave-data RCM StartedAt: 2025-03-31 21:18:13 -0400 (Mon, 31 Mar 2025) EndedAt: 2025-03-31 21:20:08 -0400 (Mon, 31 Mar 2025) EllapsedTime: 115.0 seconds RetCode: 0 Status: OK PackageFile: RCM_1.22.0.tar.gz PackageFileSize: 4.819 MiB