Package: RCASPAR Version: 1.52.0 Command: F:\biocbuild\bbs-3.20-bioc\R\bin\R.exe CMD INSTALL RCASPAR StartedAt: 2025-03-31 15:27:00 -0400 (Mon, 31 Mar 2025) EndedAt: 2025-03-31 15:27:16 -0400 (Mon, 31 Mar 2025) EllapsedTime: 16.1 seconds RetCode: 0 Status: OK