Package: RCASPAR Version: 1.52.0 Command: chmod a+r RCASPAR -R && F:\biocbuild\bbs-3.20-bioc\R\bin\R.exe CMD build --keep-empty-dirs --no-resave-data RCASPAR StartedAt: 2025-03-31 21:20:01 -0400 (Mon, 31 Mar 2025) EndedAt: 2025-03-31 21:20:19 -0400 (Mon, 31 Mar 2025) EllapsedTime: 18.0 seconds RetCode: 0 Status: OK PackageFile: RCASPAR_1.52.0.tar.gz PackageFileSize: 205.6 KiB