Package: RBGL Version: 1.82.0 Command: /home/biocbuild/R/R/bin/R CMD build --keep-empty-dirs --no-resave-data RBGL StartedAt: 2025-04-01 01:52:40 -0000 (Tue, 01 Apr 2025) EndedAt: 2025-04-01 01:55:43 -0000 (Tue, 01 Apr 2025) EllapsedTime: 183.1 seconds RetCode: 0 Status: OK PackageFile: RBGL_1.82.0.tar.gz PackageFileSize: 2.875 MiB