Package: RBGL Version: 1.82.0 Command: F:\biocbuild\bbs-3.20-bioc\R\bin\R.exe CMD check --no-multiarch --install=check:RBGL.install-out.txt --library=F:\biocbuild\bbs-3.20-bioc\R\library --no-vignettes --timings RBGL_1.82.0.tar.gz StartedAt: 2025-04-01 04:59:25 -0400 (Tue, 01 Apr 2025) EndedAt: 2025-04-01 05:01:01 -0400 (Tue, 01 Apr 2025) EllapsedTime: 95.9 seconds RetCode: 0 Status: WARNINGS CheckDir: RBGL.Rcheck Warnings: 1