Package: RBGL Version: 1.82.0 Command: rm -rf RBGL.buildbin-libdir && mkdir RBGL.buildbin-libdir && F:\biocbuild\bbs-3.20-bioc\R\bin\R.exe CMD INSTALL --build --library=RBGL.buildbin-libdir RBGL_1.82.0.tar.gz StartedAt: 2025-04-01 08:58:23 -0400 (Tue, 01 Apr 2025) EndedAt: 2025-04-01 09:01:19 -0400 (Tue, 01 Apr 2025) EllapsedTime: 176.2 seconds RetCode: 0 Status: OK PackageFile: RBGL_1.82.0.zip PackageFileSize: 2.91 MiB