Package: RBGL Version: 1.82.0 Command: /Library/Frameworks/R.framework/Resources/bin/R CMD build --keep-empty-dirs --no-resave-data RBGL StartedAt: 2025-04-01 05:52:11 -0400 (Tue, 01 Apr 2025) EndedAt: 2025-04-01 05:54:01 -0400 (Tue, 01 Apr 2025) EllapsedTime: 110.4 seconds RetCode: 0 Status: OK PackageFile: RBGL_1.82.0.tar.gz PackageFileSize: 2.949 MiB