Package: RAREsim Version: 1.10.0 Command: /Library/Frameworks/R.framework/Resources/bin/R CMD check --install=check:RAREsim.install-out.txt --library=/Library/Frameworks/R.framework/Resources/library --no-vignettes --timings RAREsim_1.10.0.tar.gz StartedAt: 2025-04-01 07:42:29 -0400 (Tue, 01 Apr 2025) EndedAt: 2025-04-01 07:43:09 -0400 (Tue, 01 Apr 2025) EllapsedTime: 39.8 seconds RetCode: 0 Status: OK CheckDir: RAREsim.Rcheck Warnings: 0