Package: RAIDS Version: 1.4.0 Command: /home/biocbuild/R/R/bin/R CMD INSTALL RAIDS StartedAt: 2025-03-31 21:00:28 -0000 (Mon, 31 Mar 2025) EndedAt: 2025-03-31 21:01:34 -0000 (Mon, 31 Mar 2025) EllapsedTime: 65.5 seconds RetCode: 0 Status: OK