Package: RAIDS Version: 1.4.0 Command: /home/biocbuild/R/R/bin/R CMD build --keep-empty-dirs --no-resave-data RAIDS StartedAt: 2025-04-01 01:51:20 -0000 (Tue, 01 Apr 2025) EndedAt: 2025-04-01 01:54:01 -0000 (Tue, 01 Apr 2025) EllapsedTime: 161.1 seconds RetCode: 0 Status: OK PackageFile: RAIDS_1.4.0.tar.gz PackageFileSize: 3.331 MiB