Package: RAIDS Version: 1.4.0 Command: rm -rf RAIDS.buildbin-libdir && mkdir RAIDS.buildbin-libdir && /Users/biocbuild/BBS/utils/build-universal.sh RAIDS_1.4.0.tar.gz /Library/Frameworks/R.framework/Resources/bin/R RAIDS.buildbin-libdir StartedAt: 2025-04-01 12:31:44 -0400 (Tue, 01 Apr 2025) EndedAt: 2025-04-01 12:33:37 -0400 (Tue, 01 Apr 2025) EllapsedTime: 113.5 seconds RetCode: 0 Status: OK PackageFile: RAIDS_1.4.0.tgz PackageFileSize: 2.722 MiB