Package: R4RNA Version: 1.34.0 Command: /home/biocbuild/R/R/bin/R CMD INSTALL R4RNA StartedAt: 2025-03-31 20:23:14 -0000 (Mon, 31 Mar 2025) EndedAt: 2025-03-31 20:23:27 -0000 (Mon, 31 Mar 2025) EllapsedTime: 13.1 seconds RetCode: 0 Status: OK