Package: R4RNA Version: 1.34.0 Command: /home/biocbuild/bbs-3.20-bioc/R/bin/R CMD INSTALL R4RNA StartedAt: 2025-03-31 15:18:26 -0400 (Mon, 31 Mar 2025) EndedAt: 2025-03-31 15:18:35 -0400 (Mon, 31 Mar 2025) EllapsedTime: 9.0 seconds RetCode: 0 Status: OK