Package: R4RNA Version: 1.34.0 Command: /home/biocbuild/bbs-3.20-bioc/R/bin/R CMD build --keep-empty-dirs --no-resave-data --md5 R4RNA StartedAt: 2025-03-31 18:40:00 -0400 (Mon, 31 Mar 2025) EndedAt: 2025-03-31 18:40:17 -0400 (Mon, 31 Mar 2025) EllapsedTime: 17.0 seconds RetCode: 0 Status: OK PackageFile: R4RNA_1.34.0.tar.gz PackageFileSize: 907.9 KiB