Package: R453Plus1Toolbox Version: 1.56.0 Command: /home/biocbuild/R/R/bin/R CMD INSTALL R453Plus1Toolbox StartedAt: 2025-03-31 20:40:13 -0000 (Mon, 31 Mar 2025) EndedAt: 2025-03-31 20:41:47 -0000 (Mon, 31 Mar 2025) EllapsedTime: 93.5 seconds RetCode: 0 Status: OK