Package: R453Plus1Toolbox Version: 1.56.0 Command: F:\biocbuild\bbs-3.20-bioc\R\bin\R.exe CMD INSTALL R453Plus1Toolbox StartedAt: 2025-03-31 16:28:07 -0400 (Mon, 31 Mar 2025) EndedAt: 2025-03-31 16:35:03 -0400 (Mon, 31 Mar 2025) EllapsedTime: 416.4 seconds RetCode: 0 Status: OK