Package: R453Plus1Toolbox Version: 1.56.0 Command: /Library/Frameworks/R.framework/Resources/bin/R CMD check --install=check:R453Plus1Toolbox.install-out.txt --library=/Library/Frameworks/R.framework/Resources/library --no-vignettes --timings R453Plus1Toolbox_1.56.0.tar.gz StartedAt: 2025-04-01 07:38:56 -0400 (Tue, 01 Apr 2025) EndedAt: 2025-04-01 07:51:30 -0400 (Tue, 01 Apr 2025) EllapsedTime: 753.7 seconds RetCode: 0 Status: OK CheckDir: R453Plus1Toolbox.Rcheck Warnings: 0