Package: QuaternaryProd Version: 1.40.0 Command: /Library/Frameworks/R.framework/Resources/bin/R CMD INSTALL QuaternaryProd StartedAt: 2025-03-31 15:13:36 -0400 (Mon, 31 Mar 2025) EndedAt: 2025-03-31 15:13:53 -0400 (Mon, 31 Mar 2025) EllapsedTime: 16.7 seconds RetCode: 0 Status: OK