Package: QuasR Version: 1.46.0 Command: /home/biocbuild/R/R/bin/R CMD INSTALL QuasR StartedAt: 2025-03-31 20:40:18 -0000 (Mon, 31 Mar 2025) EndedAt: 2025-03-31 20:41:43 -0000 (Mon, 31 Mar 2025) EllapsedTime: 85.0 seconds RetCode: 0 Status: OK