Package: QuasR Version: 1.46.0 Command: F:\biocbuild\bbs-3.20-bioc\R\bin\R.exe CMD INSTALL QuasR StartedAt: 2025-03-31 16:26:35 -0400 (Mon, 31 Mar 2025) EndedAt: 2025-03-31 16:28:24 -0400 (Mon, 31 Mar 2025) EllapsedTime: 108.3 seconds RetCode: 0 Status: OK