Package: QuasR Version: 1.46.0 Command: /Library/Frameworks/R.framework/Resources/bin/R CMD check --install=check:QuasR.install-out.txt --library=/Library/Frameworks/R.framework/Resources/library --no-vignettes --timings QuasR_1.46.0.tar.gz StartedAt: 2025-04-02 05:14:26 -0400 (Wed, 02 Apr 2025) EndedAt: 2025-04-02 05:25:27 -0400 (Wed, 02 Apr 2025) EllapsedTime: 660.9 seconds RetCode: 0 Status: WARNINGS CheckDir: QuasR.Rcheck Warnings: 1