Package: QuartPAC Version: 1.38.0 Command: /home/biocbuild/R/R/bin/R CMD INSTALL QuartPAC StartedAt: 2025-03-31 20:57:53 -0000 (Mon, 31 Mar 2025) EndedAt: 2025-03-31 20:58:12 -0000 (Mon, 31 Mar 2025) EllapsedTime: 18.7 seconds RetCode: 0 Status: OK