Package: QuartPAC Version: 1.38.0 Command: chmod a+r QuartPAC -R && F:\biocbuild\bbs-3.20-bioc\R\bin\R.exe CMD build --keep-empty-dirs --no-resave-data QuartPAC StartedAt: 2025-03-31 21:13:38 -0400 (Mon, 31 Mar 2025) EndedAt: 2025-03-31 21:14:42 -0400 (Mon, 31 Mar 2025) EllapsedTime: 63.7 seconds RetCode: 0 Status: OK PackageFile: QuartPAC_1.38.0.tar.gz PackageFileSize: 751.6 KiB