Package: QuartPAC Version: 1.38.0 Command: /home/biocbuild/bbs-3.20-bioc/R/bin/R CMD INSTALL QuartPAC StartedAt: 2025-03-31 15:48:34 -0400 (Mon, 31 Mar 2025) EndedAt: 2025-03-31 15:48:48 -0400 (Mon, 31 Mar 2025) EllapsedTime: 14.3 seconds RetCode: 0 Status: OK