Package: QuartPAC Version: 1.38.0 Command: /Library/Frameworks/R.framework/Resources/bin/R CMD INSTALL QuartPAC StartedAt: 2025-03-31 16:17:42 -0400 (Mon, 31 Mar 2025) EndedAt: 2025-03-31 16:18:15 -0400 (Mon, 31 Mar 2025) EllapsedTime: 32.8 seconds RetCode: 0 Status: OK