Package: QuartPAC Version: 1.38.0 Command: /Library/Frameworks/R.framework/Resources/bin/R CMD INSTALL QuartPAC StartedAt: 2025-03-31 17:28:02 -0400 (Mon, 31 Mar 2025) EndedAt: 2025-03-31 17:28:20 -0400 (Mon, 31 Mar 2025) EllapsedTime: 17.5 seconds RetCode: 0 Status: OK