Package: QuartPAC Version: 1.38.0 Command: /Library/Frameworks/R.framework/Resources/bin/R CMD build --keep-empty-dirs --no-resave-data QuartPAC StartedAt: 2025-04-01 05:37:12 -0400 (Tue, 01 Apr 2025) EndedAt: 2025-04-01 05:38:14 -0400 (Tue, 01 Apr 2025) EllapsedTime: 62.0 seconds RetCode: 0 Status: OK PackageFile: QuartPAC_1.38.0.tar.gz PackageFileSize: 907.6 KiB