Package: QUBIC Version: 1.34.0 Command: /home/biocbuild/R/R/bin/R CMD INSTALL QUBIC StartedAt: 2025-03-31 21:01:23 -0000 (Mon, 31 Mar 2025) EndedAt: 2025-03-31 21:02:05 -0000 (Mon, 31 Mar 2025) EllapsedTime: 41.7 seconds RetCode: 0 Status: OK