Package: QTLExperiment Version: 1.4.0 Command: /home/biocbuild/R/R/bin/R CMD build --keep-empty-dirs --no-resave-data QTLExperiment StartedAt: 2025-04-01 01:47:46 -0000 (Tue, 01 Apr 2025) EndedAt: 2025-04-01 01:48:36 -0000 (Tue, 01 Apr 2025) EllapsedTime: 50.0 seconds RetCode: 0 Status: OK PackageFile: QTLExperiment_1.4.0.tar.gz PackageFileSize: 680.3 KiB