Package: QTLExperiment Version: 1.4.0 Command: /Library/Frameworks/R.framework/Resources/bin/R CMD check --install=check:QTLExperiment.install-out.txt --library=/Library/Frameworks/R.framework/Resources/library --no-vignettes --timings QTLExperiment_1.4.0.tar.gz StartedAt: 2025-04-02 05:12:44 -0400 (Wed, 02 Apr 2025) EndedAt: 2025-04-02 05:16:15 -0400 (Wed, 02 Apr 2025) EllapsedTime: 210.7 seconds RetCode: 0 Status: OK CheckDir: QTLExperiment.Rcheck Warnings: 0