Package: QFeatures Version: 1.16.0 Command: /Library/Frameworks/R.framework/Resources/bin/R CMD build --keep-empty-dirs --no-resave-data QFeatures StartedAt: 2025-03-31 21:11:43 -0400 (Mon, 31 Mar 2025) EndedAt: 2025-03-31 21:14:39 -0400 (Mon, 31 Mar 2025) EllapsedTime: 175.4 seconds RetCode: 0 Status: OK PackageFile: QFeatures_1.16.0.tar.gz PackageFileSize: 2.945 MiB