Package: QDNAseq Version: 1.42.0 Command: /home/biocbuild/R/R/bin/R CMD INSTALL QDNAseq StartedAt: 2025-03-31 20:37:53 -0000 (Mon, 31 Mar 2025) EndedAt: 2025-03-31 20:38:17 -0000 (Mon, 31 Mar 2025) EllapsedTime: 23.9 seconds RetCode: 0 Status: OK