Package: QDNAseq Version: 1.42.0 Command: /home/biocbuild/R/R/bin/R CMD check --install=check:QDNAseq.install-out.txt --library=/home/biocbuild/R/R/site-library --no-vignettes --timings QDNAseq_1.42.0.tar.gz StartedAt: 2025-04-01 09:40:55 -0000 (Tue, 01 Apr 2025) EndedAt: 2025-04-01 09:47:55 -0000 (Tue, 01 Apr 2025) EllapsedTime: 419.5 seconds RetCode: 0 Status: OK CheckDir: QDNAseq.Rcheck Warnings: 0