Package: Pviz Version: 1.40.0 Command: F:\biocbuild\bbs-3.20-bioc\R\bin\R.exe CMD INSTALL Pviz StartedAt: 2025-03-31 16:20:37 -0400 (Mon, 31 Mar 2025) EndedAt: 2025-03-31 16:22:18 -0400 (Mon, 31 Mar 2025) EllapsedTime: 101.0 seconds RetCode: 0 Status: OK