Package: PureCN Version: 2.12.0 Command: /home/biocbuild/R/R/bin/R CMD build --keep-empty-dirs --no-resave-data PureCN StartedAt: 2025-04-01 01:44:49 -0000 (Tue, 01 Apr 2025) EndedAt: 2025-04-01 01:50:51 -0000 (Tue, 01 Apr 2025) EllapsedTime: 362.1 seconds RetCode: 0 Status: OK PackageFile: PureCN_2.12.0.tar.gz PackageFileSize: 5.772 MiB