Package: ProteoMM Version: 1.24.0 Command: F:\biocbuild\bbs-3.20-bioc\R\bin\R.exe CMD INSTALL ProteoMM StartedAt: 2025-03-31 16:09:25 -0400 (Mon, 31 Mar 2025) EndedAt: 2025-03-31 16:09:44 -0400 (Mon, 31 Mar 2025) EllapsedTime: 18.8 seconds RetCode: 0 Status: OK